Workbook

Sheet STATS
B2: MONTH | C2: WEEKS | D2: MONTHLY % COMPLETED
B3: JANUARY | C3: Weeks 1-4 | D3: ='JANUARY READINGS'!D35 -> 0
B4: FEBRUARY | C4: Weeks 5-8 | D4: ='FEBRUARY READINGS'!D35 -> 0
B5: MARCH | C5: Weeks 9-13 | D5: ='MARCH READINGS'!D41 -> 0
B6: APRIL | C6: Weeks 14-17 | D6: ='APRIL READINGS'!D35 -> 0
B7: MAY | C7: Weeks 18-22 | D7: ='MAY READINGS'!D41 -> 0
B8: JUNE | C8: Weeks 23-26 | D8: ='JUNE READINGS'!D34 -> 0
B9: JULY | C9: Weeks 27-30 | D9: ='JULY READINGS'!D34 -> 0
B10: AUGUST | C10: Weeks 31-35 | D10: ='AUGUST READINGS'!D41 -> 0
B11: SEPTEMBER | C11: Weeks 36-39 | D11: ='SEPTEMBER READINGS'!D34 -> 0
B12: OCTOBER | C12: Weeks 40-43 | D12: ='OCTOBER READINGS'!D34 -> 0
B13: NOVEMBER | C13: Weeks 44-48 | D13: ='NOVEMBER READINGS'!D41 -> 0
B14: DECEMBER | C14: Weeks 49-52 | D14: ='DECEMBER READINGS'!D35 -> 0
B16: TOTAL PERCENTAGE OF THE BIBLE COMPLETED SO FAR:
B17: =SUM(D3:D14)/12 -> 0

Sheet JANUARY READINGS
C1: Guide to January Readings
A3: WEEK | B3: DAY | C3: DATE | D3: Old Testament | E3: TICK | F3: New Testament | G3: TICK | H3: STATUS
A4: WEEK 1 | B4: 1 | C4: 46023 | D4: Gen 1-2 | E4: FALSE | F4: Matt 1:1-17 | G4: FALSE | H4: =IF(AND(E4=TRUE, G4=TRUE), "Complete!","To read") -> To read
B5: 2 | C5: 46024 | D5: Gen 3-4 | E5: FALSE | F5: Matt 1:18-2:12 | G5: FALSE | H5: =IF(AND(E5=TRUE, G5=TRUE), "Complete!","To read") -> To read
B6: 3 | C6: 46025 | D6: Gen 6-8 | E6: FALSE | F6: Matt 2:13-3 | G6: FALSE | H6: =IF(AND(E6=TRUE, G6=TRUE), "Complete!","To read") -> To read
B7: 4 | C7: 46026 | D7: Gen 9-11:26 | E7: FALSE | F7: Matt 4 | G7: FALSE | H7: =IF(AND(E7=TRUE, G7=TRUE), "Complete!","To read") -> To read
B8: 5 | C8: 46027 | D8: Gen 11:27-13 | E8: FALSE | F8: Matt 5:1-16 | G8: FALSE | H8: =IF(AND(E8=TRUE, G8=TRUE), "Complete!","To read") -> To read
B9: 6 | C9: 46028 | D9: Gen 14-16 | E9: FALSE | F9: Matt 5:17-37 | G9: FALSE | H9: =IF(AND(E9=TRUE, G9=TRUE), "Complete!","To read") -> To read
B10: 7 | C10: 46029 | D10: Gen 17-19 | E10: FALSE | F10: Matt 5:38-6:18 | G10: FALSE | H10: =IF(AND(E10=TRUE, G10=TRUE), "Complete!","To read") -> To read
A11: WEEK 2 | B11: 8 | C11: 46030 | D11: Gen 20-21 | E11: FALSE | F11: Matt 1:1-17 | G11: FALSE | H11: =IF(AND(E11=TRUE, G11=TRUE), "Complete!","To read") -> To read
B12: 9 | C12: 46031 | D12: Gen 22-24:27 | E12: FALSE | F12: Matt 1:18-2:12 | G12: FALSE | H12: =IF(AND(E12=TRUE, G12=TRUE), "Complete!","To read") -> To read
B13: 10 | C13: 46032 | D13: Gen 24:28-25 | E13: FALSE | F13: Matt 2:13-3 | G13: FALSE | H13: =IF(AND(E13=TRUE, G13=TRUE), "Complete!","To read") -> To read
B14: 11 | C14: 46033 | D14: Gen 26-27 | E14: FALSE | F14: Matt 4 | G14: FALSE | H14: =IF(AND(E14=TRUE, G14=TRUE), "Complete!","To read") -> To read
B15: 12 | C15: 46034 | D15: Gen 28-29 | E15: FALSE | F15: Matt 5:1-16 | G15: FALSE | H15: =IF(AND(E15=TRUE, G15=TRUE), "Complete!","To read") -> To read
B16: 13 | C16: 46035 | D16: Gen 30-31 | E16: FALSE | F16: Matt 5:17-37 | G16: FALSE | H16: =IF(AND(E16=TRUE, G16=TRUE), "Complete!","To read") -> To read
B17: 14 | C17: 46036 | D17: Gen 32-33 | E17: FALSE | F17: Matt 5:38-6:18 | G17: FALSE | H17: =IF(AND(E17=TRUE, G17=TRUE), "Complete!","To read") -> To read
A18: WEEK 3 | B18: 15 | C18: 46037 | D18: Gen 34-36:19 | E18: FALSE | F18: Matt 11:1-19 | G18: FALSE | H18: =IF(AND(E18=TRUE, G18=TRUE), "Complete!","To read") -> To read
B19: 16 | C19: 46038 | D19: Gen 36:20-37 | E19: FALSE | F19: Matt 11:20-30 | G19: FALSE | H19: =IF(AND(E19=TRUE, G19=TRUE), "Complete!","To read") -> To read
B20: 17 | C20: 46039 | D20: Gen 38-40 | E20: FALSE | F20: Matt 12:1-21 | G20: FALSE | H20: =IF(AND(E20=TRUE, G20=TRUE), "Complete!","To read") -> To read
B21: 18 | C21: 46040 | D21: Gen 41-12 | E21: FALSE | F21: Matt 12:22-50 | G21: FALSE | H21: =IF(AND(E21=TRUE, G21=TRUE), "Complete!","To read") -> To read
B22: 19 | C22: 46041 | D22: Gen 43-44 | E22: FALSE | F22: Matt 13:1-9 | G22: FALSE | H22: =IF(AND(E22=TRUE, G22=TRUE), "Complete!","To read") -> To read
B23: 20 | C23: 46042 | D23: Gen 45-46 | E23: FALSE | F23: Matt 13:10-35 | G23: FALSE | H23: =IF(AND(E23=TRUE, G23=TRUE), "Complete!","To read") -> To read
B24: 21 | C24: 46043 | D24: Gen 47-48 | E24: FALSE | F24: Matt 13:36-58 | G24: FALSE | H24: =IF(AND(E24=TRUE, G24=TRUE), "Complete!","To read") -> To read
A25: WEEK 4 | B25: 22 | C25: 46044 | D25: Gen 49-50 | E25: FALSE | F25: Matt 14:1-12 | G25: FALSE | H25: =IF(AND(E25=TRUE, G25=TRUE), "Complete!","To read") -> To read
B26: 23 | C26: 46045 | D26: Exod 1-3 | E26: FALSE | F26: Matt 14:22-15:20 | G26: FALSE | H26: =IF(AND(E26=TRUE, G26=TRUE), "Complete!","To read") -> To read
B27: 24 | C27: 46046 | D27: Exod 4-5 | E27: FALSE | F27: Matt 15:21-31 | G27: FALSE | H27: =IF(AND(E27=TRUE, G27=TRUE), "Complete!","To read") -> To read
B28: 25 | C28: 46047 | D28: Exod 6-8 | E28: FALSE | F28: Matt 15:32-16:12 | G28: FALSE | H28: =IF(AND(E28=TRUE, G28=TRUE), "Complete!","To read") -> To read
B29: 26 | C29: 46048 | D29: Exod 9-11 | E29: FALSE | F29: Matt 16:13-17:13 | G29: FALSE | H29: =IF(AND(E29=TRUE, G29=TRUE), "Complete!","To read") -> To read
B30: 27 | C30: 46049 | D30: Exod 12-13 | E30: FALSE | F30: Matt 17:14-18:14 | G30: FALSE | H30: =IF(AND(E30=TRUE, G30=TRUE), "Complete!","To read") -> To read
B31: 28 | C31: 46050 | D31: Exod 14-15 | E31: FALSE | F31: Matt 18:15-35 | G31: FALSE | H31: =IF(AND(E31=TRUE, G31=TRUE), "Complete!","To read") -> To read
H32: =COUNTIF(H4:H31,"Complete!") -> 0
C35: You have completed | D35: =H32/COUNTA(H4:H31) -> 0 | E35: of weeks 1-4

Sheet FEBRUARY READINGS
C1: Guide to February Readings
A3: WEEK | B3: DAY | C3: DATE | D3: Old Testament | E3: TICK | F3: New Testament | G3: TICK | H3: STATUS
A4: WEEK 5 | B4: 29 | C4: 46051 | D4: Exo 16-18 | E4: FALSE | F4: Matt 19:1-12 | G4: FALSE | H4: =IF(AND(E4=TRUE, G4=TRUE), "Complete!","To read") -> To read
B5: 30 | C5: 46052 | D5: Exo 19-21 | E5: FALSE | F5: Matt 19:13-20:16 | G5: FALSE | H5: =IF(AND(E5=TRUE, G5=TRUE), "Complete!","To read") -> To read
B6: 31 | C6: 46053 | D6: Exo 22-23 | E6: FALSE | F6: Matt 20:17-21:11 | G6: FALSE | H6: =IF(AND(E6=TRUE, G6=TRUE), "Complete!","To read") -> To read
B7: 32 | C7: 46054 | D7: Exo 24-26 | E7: FALSE | F7: Matt 21:12-32 | G7: FALSE | H7: =IF(AND(E7=TRUE, G7=TRUE), "Complete!","To read") -> To read
B8: 33 | C8: 46055 | D8: Exo 27-28 | E8: FALSE | F8: Matt 21:33-22:14 | G8: FALSE | H8: =IF(AND(E8=TRUE, G8=TRUE), "Complete!","To read") -> To read
B9: 34 | C9: 46056 | D9: Exo 29-30 | E9: FALSE | F9: Matt 22:15-33 | G9: FALSE | H9: =IF(AND(E9=TRUE, G9=TRUE), "Complete!","To read") -> To read
B10: 35 | C10: 46057 | D10: Exo 31-32 | E10: FALSE | F10: Matt 22:34-23:12 | G10: FALSE | H10: =IF(AND(E10=TRUE, G10=TRUE), "Complete!","To read") -> To read
A11: WEEK 6 | B11: 36 | C11: 46058 | D11: Exo 33-34 | E11: FALSE | F11: Matt 23:13-39 | G11: FALSE | H11: =IF(AND(E11=TRUE, G11=TRUE), "Complete!","To read") -> To read
B12: 37 | C12: 46059 | D12: Exo 35-36 | E12: FALSE | F12: Matt 24: 1-31 | G12: FALSE | H12: =IF(AND(E12=TRUE, G12=TRUE), "Complete!","To read") -> To read
B13: 38 | C13: 46060 | D13: Exo 37-38 | E13: FALSE | F13: Matt 24:32-44 | G13: FALSE | H13: =IF(AND(E13=TRUE, G13=TRUE), "Complete!","To read") -> To read
B14: 39 | C14: 46061 | D14: Exo 39-40 | E14: FALSE | F14: Matt 24:45-25:13 | G14: FALSE | H14: =IF(AND(E14=TRUE, G14=TRUE), "Complete!","To read") -> To read
B15: 40 | C15: 46062 | D15: Lev 1-3 | E15: FALSE | F15: Matt 25:14-46 | G15: FALSE | H15: =IF(AND(E15=TRUE, G15=TRUE), "Complete!","To read") -> To read
B16: 41 | C16: 46063 | D16: Lev 4-5 | E16: FALSE | F16: Matt 26:1-30 | G16: FALSE | H16: =IF(AND(E16=TRUE, G16=TRUE), "Complete!","To read") -> To read
B17: 42 | C17: 46064 | D17: Lev 6-7 | E17: FALSE | F17: Matt 26:31-46 | G17: FALSE | H17: =IF(AND(E17=TRUE, G17=TRUE), "Complete!","To read") -> To read
A18: WEEK 7 | B18: 43 | C18: 46065 | D18: Lev 8-10 | E18: FALSE | F18: Matt 26:47-56 | G18: FALSE | H18: =IF(AND(E18=TRUE, G18=TRUE), "Complete!","To read") -> To read
B19: 44 | C19: 46066 | D19: Lev 11-12 | E19: FALSE | F19: Matt 26:57-75 | G19: FALSE | H19: =IF(AND(E19=TRUE, G19=TRUE), "Complete!","To read") -> To read
B20: 45 | C20: 46067 | D20: Lev 13-14 | E20: FALSE | F20: Matt 27:1-26 | G20: FALSE | H20: =IF(AND(E20=TRUE, G20=TRUE), "Complete!","To read") -> To read
B21: 46 | C21: 46068 | D21: Lev 15-16 | E21: FALSE | F21: Matt 27:27-66 | G21: FALSE | H21: =IF(AND(E21=TRUE, G21=TRUE), "Complete!","To read") -> To read
B22: 47 | C22: 46069 | D22: Lev 17-18 | E22: FALSE | F22: Matt 28 | G22: FALSE | H22: =IF(AND(E22=TRUE, G22=TRUE), "Complete!","To read") -> To read
B23: 48 | C23: 46070 | D23: Lev 19-20 | E23: FALSE | F23: Mark 1:1-15 | G23: FALSE | H23: =IF(AND(E23=TRUE, G23=TRUE), "Complete!","To read") -> To read
B24: 49 | C24: 46071 | D24: Lev 21-22 | E24: FALSE | F24: Mark 1:16-45 | G24: FALSE | H24: =IF(AND(E24=TRUE, G24=TRUE), "Complete!","To read") -> To read
A25: WEEK 8 | B25: 50 | C25: 46072 | D25: Lev 23-24 | E25: FALSE | F25: Mark 2 | G25: FALSE | H25: =IF(AND(E25=TRUE, G25=TRUE), "Complete!","To read") -> To read
B26: 51 | C26: 46073 | D26: Lev 25-26 | E26: FALSE | F26: Mark 3:1-19 | G26: FALSE | H26: =IF(AND(E26=TRUE, G26=TRUE), "Complete!","To read") -> To read
B27: 52 | C27: 46074 | D27: Lev 27; Num 1 | E27: FALSE | F27: Mark 3: 20-4:9 | G27: FALSE | H27: =IF(AND(E27=TRUE, G27=TRUE), "Complete!","To read") -> To read
B28: 53 | C28: 46075 | D28: Num 2-3 | E28: FALSE | F28: Mark 4:10-20 | G28: FALSE | H28: =IF(AND(E28=TRUE, G28=TRUE), "Complete!","To read") -> To read
B29: 54 | C29: 46076 | D29: Num 4 | E29: FALSE | F29: Mark 4:21-41 | G29: FALSE | H29: =IF(AND(E29=TRUE, G29=TRUE), "Complete!","To read") -> To read
B30: 55 | C30: 46077 | D30: Num 5-6 | E30: FALSE | F30: Mark 5:1-20 | G30: FALSE | H30: =IF(AND(E30=TRUE, G30=TRUE), "Complete!","To read") -> To read
B31: 56 | C31: 46078 | D31: Num 7 | E31: FALSE | F31: Mark 5:21-43 | G31: FALSE | H31: =IF(AND(E31=TRUE, G31=TRUE), "Complete!","To read") -> To read
H32: =COUNTIF(H4:H31,"Complete!") -> 0
C35: You have completed | D35: =H32/COUNTA(H4:H31) -> 0 | E35: of weeks 5-8

Sheet MARCH READINGS
C1: Guide to March Readings
A3: WEEK | B3: DAY | C3: DATE | D3: Old Testament | E3: TICK | F3: New Testament | G3: TICK | H3: STATUS
A4: WEEK 9 | B4: 57 | C4: 46079 | D4: Num 8-9 | E4: FALSE | F4: Matt 19:1-12 | G4: FALSE | H4: =IF(AND(E4=TRUE, G4=TRUE), "Complete!","To read") -> To read
B5: 58 | C5: 46080 | D5: Num 10-11 | E5: FALSE | F5: Matt 19:13-20:16 | G5: FALSE | H5: =IF(AND(E5=TRUE, G5=TRUE), "Complete!","To read") -> To read
B6: 59 | C6: 46081 | D6: Num 12-13 | E6: FALSE | F6: Matt 20:17-21:11 | G6: FALSE | H6: =IF(AND(E6=TRUE, G6=TRUE), "Complete!","To read") -> To read
B7: 60 | C7: 46082 | D7: Num 14-15 | E7: FALSE | F7: Matt 21:12-32 | G7: FALSE | H7: =IF(AND(E7=TRUE, G7=TRUE), "Complete!","To read") -> To read
B8: 61 | C8: 46083 | D8: Num 16-17 | E8: FALSE | F8: Matt 21:33-22:14 | G8: FALSE | H8: =IF(AND(E8=TRUE, G8=TRUE), "Complete!","To read") -> To read
B9: 62 | C9: 46084 | D9: Num 18-19 | E9: FALSE | F9: Matt 22:15-33 | G9: FALSE | H9: =IF(AND(E9=TRUE, G9=TRUE), "Complete!","To read") -> To read
B10: 63 | C10: 46085 | D10: Num 20-21 | E10: FALSE | F10: Matt 22:34-23:12 | G10: FALSE | H10: =IF(AND(E10=TRUE, G10=TRUE), "Complete!","To read") -> To read
A11: WEEK 10 | B11: 64 | C11: 46086 | D11: Num 22-23 | E11: FALSE | F11: Matt 23:13-39 | G11: FALSE | H11: =IF(AND(E11=TRUE, G11=TRUE), "Complete!","To read") -> To read
B12: 65 | C12: 46087 | D12: Num 24-25 | E12: FALSE | F12: Matt 24: 1-31 | G12: FALSE | H12: =IF(AND(E12=TRUE, G12=TRUE), "Complete!","To read") -> To read
B13: 66 | C13: 46088 | D13: Num 26-27 | E13: FALSE | F13: Matt 24:32-44 | G13: FALSE | H13: =IF(AND(E13=TRUE, G13=TRUE), "Complete!","To read") -> To read
B14: 67 | C14: 46089 | D14: Num 28-29 | E14: FALSE | F14: Matt 24:45-25:13 | G14: FALSE | H14: =IF(AND(E14=TRUE, G14=TRUE), "Complete!","To read") -> To read
B15: 68 | C15: 46090 | D15: Num 30-31 | E15: FALSE | F15: Matt 25:14-46 | G15: FALSE | H15: =IF(AND(E15=TRUE, G15=TRUE), "Complete!","To read") -> To read
B16: 69 | C16: 46091 | D16: Num 32-33 | E16: FALSE | F16: Matt 26:1-30 | G16: FALSE | H16: =IF(AND(E16=TRUE, G16=TRUE), "Complete!","To read") -> To read
B17: 70 | C17: 46092 | D17: Num 34-35 | E17: FALSE | F17: Matt 26:31-46 | G17: FALSE | H17: =IF(AND(E17=TRUE, G17=TRUE), "Complete!","To read") -> To read
A18: WEEK 11 | B18: 71 | C18: 46093 | D18: Num 36; Deut 1 | E18: FALSE | F18: Matt 26:47-56 | G18: FALSE | H18: =IF(AND(E18=TRUE, G18=TRUE), "Complete!","To read") -> To read
B19: 72 | C19: 46094 | D19: Deut 2-4:31 | E19: FALSE | F19: Matt 26:57-75 | G19: FALSE | H19: =IF(AND(E19=TRUE, G19=TRUE), "Complete!","To read") -> To read
B20: 73 | C20: 46095 | D20: Deut 4:32-5:33 | E20: FALSE | F20: Matt 27:1-26 | G20: FALSE | H20: =IF(AND(E20=TRUE, G20=TRUE), "Complete!","To read") -> To read
B21: 74 | C21: 46096 | D21: Deut 6-8 | E21: FALSE | F21: Matt 27:27-66 | G21: FALSE | H21: =IF(AND(E21=TRUE, G21=TRUE), "Complete!","To read") -> To read
B22: 75 | C22: 46097 | D22: Deut 9-10 | E22: FALSE | F22: Matt 28 | G22: FALSE | H22: =IF(AND(E22=TRUE, G22=TRUE), "Complete!","To read") -> To read
B23: 76 | C23: 46098 | D23: Deut 11-13 | E23: FALSE | F23: Mark 1:1-15 | G23: FALSE | H23: =IF(AND(E23=TRUE, G23=TRUE), "Complete!","To read") -> To read
B24: 77 | C24: 46099 | D24: Deut 14-15 | E24: FALSE | F24: Mark 1:16-45 | G24: FALSE | H24: =IF(AND(E24=TRUE, G24=TRUE), "Complete!","To read") -> To read
A25: WEEK 12 | B25: 78 | C25: 46100 | D25: Deut 16-18 | E25: FALSE | F25: Mark 15:33-16:8 | G25: FALSE | H25: =IF(AND(E25=TRUE, G25=TRUE), "Complete!","To read") -> To read
B26: 79 | C26: 46101 | D26: Deut 19-21 | E26: FALSE | F26: Mark 16:9-20; Luke 1:1-25 | G26: FALSE | H26: =IF(AND(E26=TRUE, G26=TRUE), "Complete!","To read") -> To read
B27: 80 | C27: 46102 | D27: Deut 22-24 | E27: FALSE | F27: Luke 1:26-38 | G27: FALSE | H27: =IF(AND(E27=TRUE, G27=TRUE), "Complete!","To read") -> To read
B28: 81 | C28: 46103 | D28: Deut 25-27 | E28: FALSE | F28: Luke 1:39-56 | G28: FALSE | H28: =IF(AND(E28=TRUE, G28=TRUE), "Complete!","To read") -> To read
B29: 82 | C29: 46104 | D29: Deut 28 | E29: FALSE | F29: Luke 1:57-80 | G29: FALSE | H29: =IF(AND(E29=TRUE, G29=TRUE), "Complete!","To read") -> To read
B30: 83 | C30: 46105 | D30: Deut 29-30 | E30: FALSE | F30: Luke 2:1-20 | G30: FALSE | H30: =IF(AND(E30=TRUE, G30=TRUE), "Complete!","To read") -> To read
B31: 84 | C31: 46106 | D31: Deut 31-32 | E31: FALSE | F31: Luke 2:21-52 | G31: FALSE | H31: =IF(AND(E31=TRUE, G31=TRUE), "Complete!","To read") -> To read
A32: WEEK 13 | B32: 85 | C32: 46107 | D32: Deut 33-34; Josh 1 | E32: FALSE | F32: Luke 3:1-20 | G32: FALSE | H32: =IF(AND(E32=TRUE, G32=TRUE), "Complete!","To read") -> To read
B33: 86 | C33: 46108 | D33: Josh 2-4 | E33: FALSE | F33: Luke 3:21-28 | G33: FALSE | H33: =IF(AND(E33=TRUE, G33=TRUE), "Complete!","To read") -> To read
B34: 87 | C34: 46109 | D34: Josh 5-7 | E34: FALSE | F34: Luke 4:1-30 | G34: FALSE | H34: =IF(AND(E34=TRUE, G34=TRUE), "Complete!","To read") -> To read
B35: 88 | C35: 46110 | D35: Josh 8-9 | E35: FALSE | F35: Luke 4:31-5:11 | G35: FALSE | H35: =IF(AND(E35=TRUE, G35=TRUE), "Complete!","To read") -> To read
B36: 89 | C36: 46111 | D36: Josh 10-11 | E36: FALSE | F36: Luke 5:12-39 | G36: FALSE | H36: =IF(AND(E36=TRUE, G36=TRUE), "Complete!","To read") -> To read
B37: 90 | C37: 46112 | D37: Josh 12-14 | E37: FALSE | F37: Luke 6:1-26 | G37: FALSE | H37: =IF(AND(E37=TRUE, G37=TRUE), "Complete!","To read") -> To read
B38: 91 | C38: 46113 | D38: Josh 15-16 | E38: FALSE | F38: Luke 6:27-42 | G38: FALSE | H38: =IF(AND(E38=TRUE, G38=TRUE), "Complete!","To read") -> To read
H39: =COUNTIF(H4:H38,"Complete!") -> 0
C41: You have completed | D41: =H39/COUNTA(H4:H38) -> 0 | E41: of weeks 9-13

Sheet APRIL READINGS
C1: Guide to April Readings
A3: WEEK | B3: DAY | C3: DATE | D3: Old Testament | E3: TICK | F3: New Testament | G3: TICK | H3: STATUS
A4: WEEK 14 | B4: 92 | C4: 46114 | D4: Joshua 17-18 | E4: FALSE | F4: Luke 6:43-7:10 | G4: FALSE | H4: =IF(AND(E4=TRUE, G4=TRUE), "Complete!","To read") -> To read
B5: 93 | C5: 46115 | D5: Joshua 19-20 | E5: FALSE | F5: Luke 7:11-35 | G5: FALSE | H5: =IF(AND(E5=TRUE, G5=TRUE), "Complete!","To read") -> To read
B6: 94 | C6: 46116 | D6: Joshua 21-22 | E6: FALSE | F6: Luke 7:36-8:3 | G6: FALSE | H6: =IF(AND(E6=TRUE, G6=TRUE), "Complete!","To read") -> To read
B7: 95 | C7: 46117 | D7: Joshua 23-24; Judges 1 | E7: FALSE | F7: Luke 8:4-25 | G7: FALSE | H7: =IF(AND(E7=TRUE, G7=TRUE), "Complete!","To read") -> To read
B8: 96 | C8: 46118 | D8: Judges 2-4 | E8: FALSE | F8: Luke 8:26-56 | G8: FALSE | H8: =IF(AND(E8=TRUE, G8=TRUE), "Complete!","To read") -> To read
B9: 97 | C9: 46119 | D9: Judges 5-6 | E9: FALSE | F9: Luke 9:1-27 | G9: FALSE | H9: =IF(AND(E9=TRUE, G9=TRUE), "Complete!","To read") -> To read
B10: 98 | C10: 46120 | D10: Judges 7-8 | E10: FALSE | F10: Luke 9:28-62 | G10: FALSE | H10: =IF(AND(E10=TRUE, G10=TRUE), "Complete!","To read") -> To read
A11: WEEK 15 | B11: 99 | C11: 46121 | D11: Judges 9-10 | E11: FALSE | F11: Luke 10:1-24 | G11: FALSE | H11: =IF(AND(E11=TRUE, G11=TRUE), "Complete!","To read") -> To read
B12: 100 | C12: 46122 | D12: Judges 11-12 | E12: FALSE | F12: Luke 10:25-37 | G12: FALSE | H12: =IF(AND(E12=TRUE, G12=TRUE), "Complete!","To read") -> To read
B13: 101 | C13: 46123 | D13: Judges 13-14 | E13: FALSE | F13: Luke 10:38-11:13 | G13: FALSE | H13: =IF(AND(E13=TRUE, G13=TRUE), "Complete!","To read") -> To read
B14: 102 | C14: 46124 | D14: Judges 15-17 | E14: FALSE | F14: Luke 11:14-36 | G14: FALSE | H14: =IF(AND(E14=TRUE, G14=TRUE), "Complete!","To read") -> To read
B15: 103 | C15: 46125 | D15: Judges 18-19 | E15: FALSE | F15: Luke 11:37-12:12 | G15: FALSE | H15: =IF(AND(E15=TRUE, G15=TRUE), "Complete!","To read") -> To read
B16: 104 | C16: 46126 | D16: Judges 20-21 | E16: FALSE | F16: Luke 12:13-34 | G16: FALSE | H16: =IF(AND(E16=TRUE, G16=TRUE), "Complete!","To read") -> To read
B17: 105 | C17: 46127 | D17: Ruth 1-4 | E17: FALSE | F17: Luke 12:35-48 | G17: FALSE | H17: =IF(AND(E17=TRUE, G17=TRUE), "Complete!","To read") -> To read
A18: WEEK 16 | B18: 106 | C18: 46128 | D18: 1 Sam 1-2 | E18: FALSE | F18: Luke 12:49-13:9 | G18: FALSE | H18: =IF(AND(E18=TRUE, G18=TRUE), "Complete!","To read") -> To read
B19: 107 | C19: 46129 | D19: 1 Sam 3-5 | E19: FALSE | F19: Luke 13:10-35 | G19: FALSE | H19: =IF(AND(E19=TRUE, G19=TRUE), "Complete!","To read") -> To read
B20: 108 | C20: 46130 | D20: 1 Sam 6-8 | E20: FALSE | F20: Luke 14:1-24 | G20: FALSE | H20: =IF(AND(E20=TRUE, G20=TRUE), "Complete!","To read") -> To read
B21: 109 | C21: 46131 | D21: 1 Sam 9-10 | E21: FALSE | F21: Luke 14:25-15:10 | G21: FALSE | H21: =IF(AND(E21=TRUE, G21=TRUE), "Complete!","To read") -> To read
B22: 110 | C22: 46132 | D22: 1 Sam 11-12 | E22: FALSE | F22: Luke 15:11-32 | G22: FALSE | H22: =IF(AND(E22=TRUE, G22=TRUE), "Complete!","To read") -> To read
B23: 111 | C23: 46133 | D23: 1 Sam 13-14 | E23: FALSE | F23: Luke 16:1-18 | G23: FALSE | H23: =IF(AND(E23=TRUE, G23=TRUE), "Complete!","To read") -> To read
B24: 112 | C24: 46134 | D24: 1 Sam 15-16 | E24: FALSE | F24: Luke 16:19-17:10 | G24: FALSE | H24: =IF(AND(E24=TRUE, G24=TRUE), "Complete!","To read") -> To read
A25: WEEK 17 | B25: 113 | C25: 46135 | D25: 1 Sam 17-18 | E25: FALSE | F25: Luke 17:11-37 | G25: FALSE | H25: =IF(AND(E25=TRUE, G25=TRUE), "Complete!","To read") -> To read
B26: 114 | C26: 46136 | D26: 1 Sam 19-20 | E26: FALSE | F26: Luke 18:1-14 | G26: FALSE | H26: =IF(AND(E26=TRUE, G26=TRUE), "Complete!","To read") -> To read
B27: 115 | C27: 46137 | D27: 1 Sam 21-23 | E27: FALSE | F27: Luke 18:15-43 | G27: FALSE | H27: =IF(AND(E27=TRUE, G27=TRUE), "Complete!","To read") -> To read
B28: 116 | C28: 46138 | D28: 1 Sam 24-25 | E28: FALSE | F28: Luke 19:1-27 | G28: FALSE | H28: =IF(AND(E28=TRUE, G28=TRUE), "Complete!","To read") -> To read
B29: 117 | C29: 46139 | D29: 1 Sam 26-28 | E29: FALSE | F29: Luke 19:28-48 | G29: FALSE | H29: =IF(AND(E29=TRUE, G29=TRUE), "Complete!","To read") -> To read
B30: 118 | C30: 46140 | D30: 1 Sam 29-31 | E30: FALSE | F30: Luke 20:1-19 | G30: FALSE | H30: =IF(AND(E30=TRUE, G30=TRUE), "Complete!","To read") -> To read
B31: 119 | C31: 46141 | D31: 2 Sam 1-2 | E31: FALSE | F31: Luke 20:20-40 | G31: FALSE | H31: =IF(AND(E31=TRUE, G31=TRUE), "Complete!","To read") -> To read
H32: =COUNTIF(H4:H31,"Complete!") -> 0
C35: You have completed | D35: =H32/COUNTA(H4:H31) -> 0 | E35: of weeks 14-17

Sheet MAY READINGS
C1: Guide to May Readings
A3: WEEK | B3: DAY | C3: DATE | D3: Old Testament | E3: TICK | F3: New Testament | G3: TICK | H3: STATUS
A4: WEEK 18 | B4: 120 | C4: 46142 | D4: 2 Sam 3-5 | E4: FALSE | F4: Luke 20:41-21:4 | G4: FALSE | H4: =IF(AND(E4=TRUE, G4=TRUE), "Complete!","To read") -> To read
B5: 121 | C5: 46143 | D5: 2 Sam 6-8 | E5: FALSE | F5: Luke 21:5-19 | G5: FALSE | H5: =IF(AND(E5=TRUE, G5=TRUE), "Complete!","To read") -> To read
B6: 122 | C6: 46144 | D6: 2 Sam 10-11 | E6: FALSE | F6: Luke 21:20-38 | G6: FALSE | H6: =IF(AND(E6=TRUE, G6=TRUE), "Complete!","To read") -> To read
B7: 123 | C7: 46145 | D7: 2 Sam 12-13 | E7: FALSE | F7: Luke 22:1-23 | G7: FALSE | H7: =IF(AND(E7=TRUE, G7=TRUE), "Complete!","To read") -> To read
B8: 124 | C8: 46146 | D8: 2 Sam 14-16 | E8: FALSE | F8: Luke 22:24-38 | G8: FALSE | H8: =IF(AND(E8=TRUE, G8=TRUE), "Complete!","To read") -> To read
B9: 125 | C9: 46147 | D9: 2 Sam 17-18 | E9: FALSE | F9: Luke 22:39-53 | G9: FALSE | H9: =IF(AND(E9=TRUE, G9=TRUE), "Complete!","To read") -> To read
B10: 126 | C10: 46148 | D10: 2 Sam 19-21 | E10: FALSE | F10: Luke 22:54-71 | G10: FALSE | H10: =IF(AND(E10=TRUE, G10=TRUE), "Complete!","To read") -> To read
A11: WEEK 19 | B11: 127 | C11: 46149 | D11: 2 Sam 22:1-23:7 | E11: FALSE | F11: Luke 23:1-25 | G11: FALSE | H11: =IF(AND(E11=TRUE, G11=TRUE), "Complete!","To read") -> To read
B12: 128 | C12: 46150 | D12: 2 Sam 23:8-24:25 | E12: FALSE | F12: Luke 23:26-56 | G12: FALSE | H12: =IF(AND(E12=TRUE, G12=TRUE), "Complete!","To read") -> To read
B13: 129 | C13: 46151 | D13: 1 Kings 1:1-2:12 | E13: FALSE | F13: Luke 24:1-24 | G13: FALSE | H13: =IF(AND(E13=TRUE, G13=TRUE), "Complete!","To read") -> To read
B14: 130 | C14: 46152 | D14: 1 Kings 2:13-3:28 | E14: FALSE | F14: Luke 24:25-53 | G14: FALSE | H14: =IF(AND(E14=TRUE, G14=TRUE), "Complete!","To read") -> To read
B15: 131 | C15: 46153 | D15: 1 Kings 4-5 | E15: FALSE | F15: John 1:1-18 | G15: FALSE | H15: =IF(AND(E15=TRUE, G15=TRUE), "Complete!","To read") -> To read
B16: 132 | C16: 46154 | D16: 1 Kings 6-7 | E16: FALSE | F16: John 1:19-34 | G16: FALSE | H16: =IF(AND(E16=TRUE, G16=TRUE), "Complete!","To read") -> To read
B17: 133 | C17: 46155 | D17: 1 Kings 8:1-9:9 | E17: FALSE | F17: John 1:35-51 | G17: FALSE | H17: =IF(AND(E17=TRUE, G17=TRUE), "Complete!","To read") -> To read
A18: WEEK 20 | B18: 134 | C18: 46156 | D18: 1 Kings 9:10-10:29 | E18: FALSE | F18: John 2 | G18: FALSE | H18: =IF(AND(E18=TRUE, G18=TRUE), "Complete!","To read") -> To read
B19: 135 | C19: 46157 | D19: 1 Kings 11-12 | E19: FALSE | F19: John 3:1-21 | G19: FALSE | H19: =IF(AND(E19=TRUE, G19=TRUE), "Complete!","To read") -> To read
B20: 136 | C20: 46158 | D20: 1 Kings 13:1-15:8 | E20: FALSE | F20: John 3:22-36 | G20: FALSE | H20: =IF(AND(E20=TRUE, G20=TRUE), "Complete!","To read") -> To read
B21: 137 | C21: 46159 | D21: 1 Kings 15:9-17:24 | E21: FALSE | F21: John 4:1-30 | G21: FALSE | H21: =IF(AND(E21=TRUE, G21=TRUE), "Complete!","To read") -> To read
B22: 138 | C22: 46160 | D22: 1 Kings 18-19 | E22: FALSE | F22: John 4:31-54 | G22: FALSE | H22: =IF(AND(E22=TRUE, G22=TRUE), "Complete!","To read") -> To read
B23: 139 | C23: 46161 | D23: 1 Kings 20-21 | E23: FALSE | F23: John 5:1-30 | G23: FALSE | H23: =IF(AND(E23=TRUE, G23=TRUE), "Complete!","To read") -> To read
B24: 140 | C24: 46162 | D24: 1 Kings 22; 2 Kings 1 | E24: FALSE | F24: John 5:31-6:15 | G24: FALSE | H24: =IF(AND(E24=TRUE, G24=TRUE), "Complete!","To read") -> To read
A25: WEEK 21 | B25: 141 | C25: 46163 | D25: 2 Kings 2:1-4:7 | E25: FALSE | F25: John 6:16-40 | G25: FALSE | H25: =IF(AND(E25=TRUE, G25=TRUE), "Complete!","To read") -> To read
B26: 142 | C26: 46164 | D26: 2 Kings 4:8-7:2 | E26: FALSE | F26: John 6:41-59 | G26: FALSE | H26: =IF(AND(E26=TRUE, G26=TRUE), "Complete!","To read") -> To read
B27: 143 | C27: 46165 | D27: 2 Kings 7:3-9:37 | E27: FALSE | F27: John 6:60-71 | G27: FALSE | H27: =IF(AND(E27=TRUE, G27=TRUE), "Complete!","To read") -> To read
B28: 144 | C28: 46166 | D28: 2 Kings 10-11 | E28: FALSE | F28: John 7:1-24 | G28: FALSE | H28: =IF(AND(E28=TRUE, G28=TRUE), "Complete!","To read") -> To read
B29: 145 | C29: 46167 | D29: 2 Kings 12-14 | E29: FALSE | F29: John 7:25-53 | G29: FALSE | H29: =IF(AND(E29=TRUE, G29=TRUE), "Complete!","To read") -> To read
B30: 146 | C30: 46168 | D30: 2 Kings 15-16 | E30: FALSE | F30: John 8:1-20 | G30: FALSE | H30: =IF(AND(E30=TRUE, G30=TRUE), "Complete!","To read") -> To read
B31: 147 | C31: 46169 | D31: 2 Kings 17-18 | E31: FALSE | F31: John 8:21-30 | G31: FALSE | H31: =IF(AND(E31=TRUE, G31=TRUE), "Complete!","To read") -> To read
A32: WEEK 22 | B32: 148 | C32: 46170 | D32: 2 Kings 19-20 | E32: FALSE | F32: John 8:31-59 | G32: FALSE | H32: =IF(AND(E32=TRUE, G32=TRUE), "Complete!","To read") -> To read
B33: 149 | C33: 46171 | D33: 2 Kings 21-23 | E33: FALSE | F33: John 9:1-23 | G33: FALSE | H33: =IF(AND(E33=TRUE, G33=TRUE), "Complete!","To read") -> To read
B34: 150 | C34: 46172 | D34: 2 Kings 24-25;1 Chron 1:1-16 | E34: FALSE | F34: John 9:24-41 | G34: FALSE | H34: =IF(AND(E34=TRUE, G34=TRUE), "Complete!","To read") -> To read
B35: 151 | C35: 46173 | D35: 1 Chron 1:17-2:55 | E35: FALSE | F35: John 10:1-21 | G35: FALSE | H35: =IF(AND(E35=TRUE, G35=TRUE), "Complete!","To read") -> To read
B36: 152 | C36: 46174 | D36: 1 Chron 3-4 | E36: FALSE | F36: John 10:22-42 | G36: FALSE | H36: =IF(AND(E36=TRUE, G36=TRUE), "Complete!","To read") -> To read
B37: 153 | C37: 46175 | D37: 1 Chron 5:1-6:53 | E37: FALSE | F37: John 11:1-29 | G37: FALSE | H37: =IF(AND(E37=TRUE, G37=TRUE), "Complete!","To read") -> To read
B38: 154 | C38: 46176 | D38: 1 Chron 6:54-8:40 | E38: FALSE | F38: John 11:30-57 | G38: FALSE | H38: =IF(AND(E38=TRUE, G38=TRUE), "Complete!","To read") -> To read
H39: =COUNTIF(H4:H38,"Complete!") -> 0
C41: You have completed | D41: =H39/COUNTA(H4:H38) -> 0 | E41: of weeks 18-22

Sheet JUNE READINGS
C1: Guide to June Readings
A3: WEEK | B3: DAY | C3: DATE | D3: Old Testament | E3: TICK | F3: New Testament | G3: TICK | H3: STATUS
A4: WEEK 23 | B4: 155 | C4: 46177 | D4: 1 Chronicles 9-11 | E4: FALSE | F4: John 12:1-36 | G4: FALSE | H4: =IF(AND(E4=TRUE, G4=TRUE), "Complete!","To read") -> To read
B5: 156 | C5: 46178 | D5: 1 Chronicles 12-13 | E5: FALSE | F5: John 12:37-13:17 | G5: FALSE | H5: =IF(AND(E5=TRUE, G5=TRUE), "Complete!","To read") -> To read
B6: 157 | C6: 46179 | D6: 1 Chronicles 14-16 | E6: FALSE | F6: John 13:18-38 | G6: FALSE | H6: =IF(AND(E6=TRUE, G6=TRUE), "Complete!","To read") -> To read
B7: 158 | C7: 46180 | D7: 1 Chronicles 17-19 | E7: FALSE | F7: John 14:1-14 | G7: FALSE | H7: =IF(AND(E7=TRUE, G7=TRUE), "Complete!","To read") -> To read
B8: 159 | C8: 46181 | D8: 1 Chronicles 20-22 | E8: FALSE | F8: John 14:15-31 | G8: FALSE | H8: =IF(AND(E8=TRUE, G8=TRUE), "Complete!","To read") -> To read
B9: 160 | C9: 46182 | D9: 1 Chronicles 23-25 | E9: FALSE | F9: John 15:1-17 | G9: FALSE | H9: =IF(AND(E9=TRUE, G9=TRUE), "Complete!","To read") -> To read
B10: 161 | C10: 46183 | D10: 1 Chronicles 26-27 | E10: FALSE | F10: John 15:18-27 | G10: FALSE | H10: =IF(AND(E10=TRUE, G10=TRUE), "Complete!","To read") -> To read
A11: WEEK 24 | B11: 162 | C11: 46184 | D11: 1 Chron 28-29; 2 Chron 1 | E11: FALSE | F11: John 16:1-15 | G11: FALSE | H11: =IF(AND(E11=TRUE, G11=TRUE), "Complete!","To read") -> To read
B12: 163 | C12: 46185 | D12: 2 Chronicles 2-4 | E12: FALSE | F12: John 16:16-33 | G12: FALSE | H12: =IF(AND(E12=TRUE, G12=TRUE), "Complete!","To read") -> To read
B13: 164 | C13: 46186 | D13: 2 Chronicles 5-6 | E13: FALSE | F13: John 17 | G13: FALSE | H13: =IF(AND(E13=TRUE, G13=TRUE), "Complete!","To read") -> To read
B14: 165 | C14: 46187 | D14: 2 Chronicles 7-9 | E14: FALSE | F14: John 18:1-24 | G14: FALSE | H14: =IF(AND(E14=TRUE, G14=TRUE), "Complete!","To read") -> To read
B15: 166 | C15: 46188 | D15: 2 Chronicles 10-12 | E15: FALSE | F15: John 18:25-40 | G15: FALSE | H15: =IF(AND(E15=TRUE, G15=TRUE), "Complete!","To read") -> To read
B16: 167 | C16: 46189 | D16: 2 Chronicles 13-16 | E16: FALSE | F16: John 19:1-27 | G16: FALSE | H16: =IF(AND(E16=TRUE, G16=TRUE), "Complete!","To read") -> To read
B17: 168 | C17: 46190 | D17: 2 Chronicles 17-19 | E17: FALSE | F17: John 19:28-20:10 | G17: FALSE | H17: =IF(AND(E17=TRUE, G17=TRUE), "Complete!","To read") -> To read
A18: WEEK 25 | B18: 169 | C18: 46191 | D18: 2 Chronicles 20-22 | E18: FALSE | F18: John 20:11-31 | G18: FALSE | H18: =IF(AND(E18=TRUE, G18=TRUE), "Complete!","To read") -> To read
B19: 170 | C19: 46192 | D19: 2 Chronicles 23-25 | E19: FALSE | F19: John 21 | G19: FALSE | H19: =IF(AND(E19=TRUE, G19=TRUE), "Complete!","To read") -> To read
B20: 171 | C20: 46193 | D20: 2 Chronicles 26-28 | E20: FALSE | F20: Acts 1:1-11 | G20: FALSE | H20: =IF(AND(E20=TRUE, G20=TRUE), "Complete!","To read") -> To read
B21: 172 | C21: 46194 | D21: 2 Chronicles 29-31 | E21: FALSE | F21: Acts 1:12-2:13 | G21: FALSE | H21: =IF(AND(E21=TRUE, G21=TRUE), "Complete!","To read") -> To read
B22: 173 | C22: 46195 | D22: 2 Chronicles 32-34 | E22: FALSE | F22: Acts 2:14-41 | G22: FALSE | H22: =IF(AND(E22=TRUE, G22=TRUE), "Complete!","To read") -> To read
B23: 174 | C23: 46196 | D23: 2 Chronicles 35-36 | E23: FALSE | F23: Acts 2:42-3:11 | G23: FALSE | H23: =IF(AND(E23=TRUE, G23=TRUE), "Complete!","To read") -> To read
B24: 175 | C24: 46197 | D24: Ezra 1-4 | E24: FALSE | F24: Acts 3:12-4:12 | G24: FALSE | H24: =IF(AND(E24=TRUE, G24=TRUE), "Complete!","To read") -> To read
A25: WEEK 26 | B25: 176 | C25: 46198 | D25: Ezra 5-7 | E25: FALSE | F25: Acts 4:13-31 | G25: FALSE | H25: =IF(AND(E25=TRUE, G25=TRUE), "Complete!","To read") -> To read
B26: 177 | C26: 46199 | D26: Ezra 8-10 | E26: FALSE | F26: Acts 4:32-5:16 | G26: FALSE | H26: =IF(AND(E26=TRUE, G26=TRUE), "Complete!","To read") -> To read
B27: 178 | C27: 46200 | D27: Nehemiah 1-3 | E27: FALSE | F27: Acts 5:17-42 | G27: FALSE | H27: =IF(AND(E27=TRUE, G27=TRUE), "Complete!","To read") -> To read
B28: 179 | C28: 46201 | D28: Nehemiah 4-6 | E28: FALSE | F28: Acts 6:1-15 | G28: FALSE | H28: =IF(AND(E28=TRUE, G28=TRUE), "Complete!","To read") -> To read
B29: 180 | C29: 46202 | D29: Nehemiah 7-8 | E29: FALSE | F29: Acts 7:1-19 | G29: FALSE | H29: =IF(AND(E29=TRUE, G29=TRUE), "Complete!","To read") -> To read
B30: 181 | C30: 46203 | D30: Nehemiah 9-10 | E30: FALSE | F30: Acts 7:20-43 | G30: FALSE | H30: =IF(AND(E30=TRUE, G30=TRUE), "Complete!","To read") -> To read
B31: 182 | C31: 46204 | D31: Nehemiah 11-12 | E31: FALSE | F31: Acts 7:44-60 | G31: FALSE | H31: =IF(AND(E31=TRUE, G31=TRUE), "Complete!","To read") -> To read
H32: =COUNTIF(H4:H31,"Complete!") -> 0
C34: You have completed | D34: =H32/COUNTA(H4:H31) -> 0 | E34: of weeks 23-26

Sheet JULY READINGS
C1: Guide to July Readings
A3: WEEK | B3: DAY | C3: DATE | D3: Old Testament | E3: TICK | F3: New Testament | G3: TICK | H3: STATUS
A4: WEEK 27 | B4: 183 | C4: 46205 | D4: Nehemiah 13; Esther 1 | E4: FALSE | F4: Acts 8:1-25 | G4: FALSE | H4: =IF(AND(E4=TRUE, G4=TRUE), "Complete!","To read") -> To read
B5: 184 | C5: 46206 | D5: Esther 2-5 | E5: FALSE | F5: Acts 8:26-40 | G5: FALSE | H5: =IF(AND(E5=TRUE, G5=TRUE), "Complete!","To read") -> To read
B6: 185 | C6: 46207 | D6: Esther 6-10 | E6: FALSE | F6: Acts 9:1-19 | G6: FALSE | H6: =IF(AND(E6=TRUE, G6=TRUE), "Complete!","To read") -> To read
B7: 186 | C7: 46208 | D7: Job 1-3 | E7: FALSE | F7: Acts 9:20-43 | G7: FALSE | H7: =IF(AND(E7=TRUE, G7=TRUE), "Complete!","To read") -> To read
B8: 187 | C8: 46209 | D8: Job 4-6 | E8: FALSE | F8: Acts 10:1-33 | G8: FALSE | H8: =IF(AND(E8=TRUE, G8=TRUE), "Complete!","To read") -> To read
B9: 188 | C9: 46210 | D9: Job 7-9 | E9: FALSE | F9: Acts 10:34-48 | G9: FALSE | H9: =IF(AND(E9=TRUE, G9=TRUE), "Complete!","To read") -> To read
B10: 189 | C10: 46211 | D10: Job 10-12 | E10: FALSE | F10: Acts 11 | G10: FALSE | H10: =IF(AND(E10=TRUE, G10=TRUE), "Complete!","To read") -> To read
A11: WEEK 28 | B11: 190 | C11: 46212 | D11: Job 13-15 | E11: FALSE | F11: Acts 12:1-19 | G11: FALSE | H11: =IF(AND(E11=TRUE, G11=TRUE), "Complete!","To read") -> To read
B12: 191 | C12: 46213 | D12: Job 16-18 | E12: FALSE | F12: Acts 12:20-13:12 | G12: FALSE | H12: =IF(AND(E12=TRUE, G12=TRUE), "Complete!","To read") -> To read
B13: 192 | C13: 46214 | D13: Job 19-21 | E13: FALSE | F13: Acts 13:13-43 | G13: FALSE | H13: =IF(AND(E13=TRUE, G13=TRUE), "Complete!","To read") -> To read
B14: 193 | C14: 46215 | D14: Job 22-24 | E14: FALSE | F14: Acts 13:44-14:7 | G14: FALSE | H14: =IF(AND(E14=TRUE, G14=TRUE), "Complete!","To read") -> To read
B15: 194 | C15: 46216 | D15: Job 25-28 | E15: FALSE | F15: Acts 14:8-20 | G15: FALSE | H15: =IF(AND(E15=TRUE, G15=TRUE), "Complete!","To read") -> To read
B16: 195 | C16: 46217 | D16: Job 29-30 | E16: FALSE | F16: Acts 14:21-28 | G16: FALSE | H16: =IF(AND(E16=TRUE, G16=TRUE), "Complete!","To read") -> To read
B17: 196 | C17: 46218 | D17: Job 31-33 | E17: FALSE | F17: Acts 15:1-21 | G17: FALSE | H17: =IF(AND(E17=TRUE, G17=TRUE), "Complete!","To read") -> To read
A18: WEEK 29 | B18: 197 | C18: 46219 | D18: Job 34-36 | E18: FALSE | F18: Acts 15:22-41 | G18: FALSE | H18: =IF(AND(E18=TRUE, G18=TRUE), "Complete!","To read") -> To read
B19: 198 | C19: 46220 | D19: Job 37-38 | E19: FALSE | F19: Acts 16:1-15 | G19: FALSE | H19: =IF(AND(E19=TRUE, G19=TRUE), "Complete!","To read") -> To read
B20: 199 | C20: 46221 | D20: Job 39-40 | E20: FALSE | F20: Acts 16:16-40 | G20: FALSE | H20: =IF(AND(E20=TRUE, G20=TRUE), "Complete!","To read") -> To read
B21: 200 | C21: 46222 | D21: Job 41-42; Psalms 1-2 | E21: FALSE | F21: Acts 17:1-15 | G21: FALSE | H21: =IF(AND(E21=TRUE, G21=TRUE), "Complete!","To read") -> To read
B22: 201 | C22: 46223 | D22: Psalms 3-5 | E22: FALSE | F22: Acts 17:16-34 | G22: FALSE | H22: =IF(AND(E22=TRUE, G22=TRUE), "Complete!","To read") -> To read
B23: 202 | C23: 46224 | D23: Psalms 6-8 | E23: FALSE | F23: Acts 18 | G23: FALSE | H23: =IF(AND(E23=TRUE, G23=TRUE), "Complete!","To read") -> To read
B24: 203 | C24: 46225 | D24: Psalms 9-10 | E24: FALSE | F24: Acts 19:1-22 | G24: FALSE | H24: =IF(AND(E24=TRUE, G24=TRUE), "Complete!","To read") -> To read
A25: WEEK 30 | B25: 204 | C25: 46226 | D25: Psalms 11-14 | E25: FALSE | F25: Acts 19:23-41 | G25: FALSE | H25: =IF(AND(E25=TRUE, G25=TRUE), "Complete!","To read") -> To read
B26: 205 | C26: 46227 | D26: Psalms 15-17 | E26: FALSE | F26: Acts 20:1-12 | G26: FALSE | H26: =IF(AND(E26=TRUE, G26=TRUE), "Complete!","To read") -> To read
B27: 206 | C27: 46228 | D27: Psalms 18 | E27: FALSE | F27: Acts 20:13-38 | G27: FALSE | H27: =IF(AND(E27=TRUE, G27=TRUE), "Complete!","To read") -> To read
B28: 207 | C28: 46229 | D28: Psalms 19-20 | E28: FALSE | F28: Acts 21:1-25 | G28: FALSE | H28: =IF(AND(E28=TRUE, G28=TRUE), "Complete!","To read") -> To read
B29: 208 | C29: 46230 | D29: Psalms 21-22 | E29: FALSE | F29: Acts 21:26-40 | G29: FALSE | H29: =IF(AND(E29=TRUE, G29=TRUE), "Complete!","To read") -> To read
B30: 209 | C30: 46231 | D30: Psalms 23-25 | E30: FALSE | F30: Acts 22:1-23 | G30: FALSE | H30: =IF(AND(E30=TRUE, G30=TRUE), "Complete!","To read") -> To read
B31: 210 | C31: 46232 | D31: Psalms 26-27 | E31: FALSE | F31: Acts 22:24-23:11 | G31: FALSE | H31: =IF(AND(E31=TRUE, G31=TRUE), "Complete!","To read") -> To read
H32: =COUNTIF(H4:H31,"Complete!") -> 0
C34: You have completed | D34: =H32/COUNTA(H4:H31) -> 0 | E34: of weeks 27-30

Sheet AUGUST READINGS
C1: Guide to August Readings
A3: WEEK | B3: DAY | C3: DATE | D3: Old Testament | E3: TICK | F3: New Testament | G3: TICK | H3: STATUS
A4: WEEK 31 | B4: 211 | C4: 46233 | D4: Psalms 28-29 | E4: FALSE | F4: Acts 23:12-35 | G4: FALSE | H4: =IF(AND(E4=TRUE, G4=TRUE), "Complete!","To read") -> To read
B5: 212 | C5: 46234 | D5: Psalms 30-31 | E5: FALSE | F5: Acts 24 | G5: FALSE | H5: =IF(AND(E5=TRUE, G5=TRUE), "Complete!","To read") -> To read
B6: 213 | C6: 46235 | D6: Psalms 32-33 | E6: FALSE | F6: Acts 25 | G6: FALSE | H6: =IF(AND(E6=TRUE, G6=TRUE), "Complete!","To read") -> To read
B7: 214 | C7: 46236 | D7: Psalms 34-35 | E7: FALSE | F7: Acts 26 | G7: FALSE | H7: =IF(AND(E7=TRUE, G7=TRUE), "Complete!","To read") -> To read
B8: 215 | C8: 46237 | D8: Psalms 36-37 | E8: FALSE | F8: Acts 27:1-26 | G8: FALSE | H8: =IF(AND(E8=TRUE, G8=TRUE), "Complete!","To read") -> To read
B9: 216 | C9: 46238 | D9: Psalms 38 | E9: FALSE | F9: Acts 27:27-28:10 | G9: FALSE | H9: =IF(AND(E9=TRUE, G9=TRUE), "Complete!","To read") -> To read
B10: 217 | C10: 46239 | D10: Psalms 39-40 | E10: FALSE | F10: Acts 28:11-31 | G10: FALSE | H10: =IF(AND(E10=TRUE, G10=TRUE), "Complete!","To read") -> To read
A11: WEEK 32 | B11: 218 | C11: 46240 | D11: Psalms 41-43 | E11: FALSE | F11: Romans 1:1-17 | G11: FALSE | H11: =IF(AND(E11=TRUE, G11=TRUE), "Complete!","To read") -> To read
B12: 219 | C12: 46241 | D12: Psalms 44-45 | E12: FALSE | F12: Romans 1:18-32 | G12: FALSE | H12: =IF(AND(E12=TRUE, G12=TRUE), "Complete!","To read") -> To read
B13: 220 | C13: 46242 | D13: Psalms 46-47 | E13: FALSE | F13: Romans 2:1-16 | G13: FALSE | H13: =IF(AND(E13=TRUE, G13=TRUE), "Complete!","To read") -> To read
B14: 221 | C14: 46243 | D14: Psalms 48-49 | E14: FALSE | F14: Romans 2:17-3:8 | G14: FALSE | H14: =IF(AND(E14=TRUE, G14=TRUE), "Complete!","To read") -> To read
B15: 222 | C15: 46244 | D15: Psalms 50-51 | E15: FALSE | F15: Romans 3:9-31 | G15: FALSE | H15: =IF(AND(E15=TRUE, G15=TRUE), "Complete!","To read") -> To read
B16: 223 | C16: 46245 | D16: Psalms 52-54 | E16: FALSE | F16: Romans 4 | G16: FALSE | H16: =IF(AND(E16=TRUE, G16=TRUE), "Complete!","To read") -> To read
B17: 224 | C17: 46246 | D17: Psalms 55-56 | E17: FALSE | F17: Romans 5 | G17: FALSE | H17: =IF(AND(E17=TRUE, G17=TRUE), "Complete!","To read") -> To read
A18: WEEK 33 | B18: 225 | C18: 46247 | D18: Psalms 57-58 | E18: FALSE | F18: Romans 6 | G18: FALSE | H18: =IF(AND(E18=TRUE, G18=TRUE), "Complete!","To read") -> To read
B19: 226 | C19: 46248 | D19: Psalms 59-61 | E19: FALSE | F19: Romans 7:1-13 | G19: FALSE | H19: =IF(AND(E19=TRUE, G19=TRUE), "Complete!","To read") -> To read
B20: 227 | C20: 46249 | D20: Psalms 62-64 | E20: FALSE | F20: Romans 7:14-8:17 | G20: FALSE | H20: =IF(AND(E20=TRUE, G20=TRUE), "Complete!","To read") -> To read
B21: 228 | C21: 46250 | D21: Psalms 65-67 | E21: FALSE | F21: Romans 8:18-39 | G21: FALSE | H21: =IF(AND(E21=TRUE, G21=TRUE), "Complete!","To read") -> To read
B22: 229 | C22: 46251 | D22: Psalms 68 | E22: FALSE | F22: Romans 9:1-29 | G22: FALSE | H22: =IF(AND(E22=TRUE, G22=TRUE), "Complete!","To read") -> To read
B23: 230 | C23: 46252 | D23: Psalms 69 | E23: FALSE | F23: Romans 9:30-10:4 | G23: FALSE | H23: =IF(AND(E23=TRUE, G23=TRUE), "Complete!","To read") -> To read
B24: 231 | C24: 46253 | D24: Psalms 70-71 | E24: FALSE | F24: Romans 10:5-11:6 | G24: FALSE | H24: =IF(AND(E24=TRUE, G24=TRUE), "Complete!","To read") -> To read
A25: WEEK 34 | B25: 232 | C25: 46254 | D25: Psalms 72 | E25: FALSE | F25: Romans 11:7-32 | G25: FALSE | H25: =IF(AND(E25=TRUE, G25=TRUE), "Complete!","To read") -> To read
B26: 233 | C26: 46255 | D26: Psalms 73-74 | E26: FALSE | F26: Romans 11:33-12:8 | G26: FALSE | H26: =IF(AND(E26=TRUE, G26=TRUE), "Complete!","To read") -> To read
B27: 234 | C27: 46256 | D27: Psalms 75-76 | E27: FALSE | F27: Romans 12:9-13:14 | G27: FALSE | H27: =IF(AND(E27=TRUE, G27=TRUE), "Complete!","To read") -> To read
B28: 235 | C28: 46257 | D28: Psalms 77:1-78:39 | E28: FALSE | F28: Romans 14 | G28: FALSE | H28: =IF(AND(E28=TRUE, G28=TRUE), "Complete!","To read") -> To read
B29: 236 | C29: 46258 | D29: Psalms 78:40-19:13 | E29: FALSE | F29: Romans 15 | G29: FALSE | H29: =IF(AND(E29=TRUE, G29=TRUE), "Complete!","To read") -> To read
B30: 237 | C30: 46259 | D30: Psalms 89-81 | E30: FALSE | F30: Romans 16 | G30: FALSE | H30: =IF(AND(E30=TRUE, G30=TRUE), "Complete!","To read") -> To read
B31: 238 | C31: 46260 | D31: Psalms 82-84 | E31: FALSE | F31: 1 Cor 1:1-17 | G31: FALSE | H31: =IF(AND(E31=TRUE, G31=TRUE), "Complete!","To read") -> To read
A32: WEEK 35 | B32: 239 | C32: 46261 | D32: Psalms 85-87 | E32: FALSE | F32: 1 Cor 1:18-2:16 | G32: FALSE | H32: =IF(AND(E32=TRUE, G32=TRUE), "Complete!","To read") -> To read
B33: 240 | C33: 46262 | D33: Psalms 88:1-89:37 | E33: FALSE | F33: 1 Cor 3 | G33: FALSE | H33: =IF(AND(E33=TRUE, G33=TRUE), "Complete!","To read") -> To read
B34: 241 | C34: 46263 | D34: Psalms 89:38-90:17 | E34: FALSE | F34: 1 Cor 4 | G34: FALSE | H34: =IF(AND(E34=TRUE, G34=TRUE), "Complete!","To read") -> To read
B35: 242 | C35: 46264 | D35: Psalms 91-93 | E35: FALSE | F35: 1 Cor 5 | G35: FALSE | H35: =IF(AND(E35=TRUE, G35=TRUE), "Complete!","To read") -> To read
B36: 243 | C36: 46265 | D36: Psalms 94-95 | E36: FALSE | F36: 1 Cor 6 | G36: FALSE | H36: =IF(AND(E36=TRUE, G36=TRUE), "Complete!","To read") -> To read
B37: 244 | C37: 46266 | D37: Psalms 96-98 | E37: FALSE | F37: 1 Cor 7:1-24 | G37: FALSE | H37: =IF(AND(E37=TRUE, G37=TRUE), "Complete!","To read") -> To read
B38: 245 | C38: 46267 | D38: Psalms 99-101 | E38: FALSE | F38: 1 Cor 7:25-8:13 | G38: FALSE | H38: =IF(AND(E38=TRUE, G38=TRUE), "Complete!","To read") -> To read
H39: =COUNTIF(H4:H38,"Complete!") -> 0
C41: You have completed | D41: =H39/COUNTA(H4:H38) -> 0 | E41: of weeks 31-35

Sheet SEPTEMBER READINGS
C1: Guide to September Readings
A3: WEEK | B3: DAY | C3: DATE | D3: Old Testament | E3: TICK | F3: New Testament | G3: TICK | H3: STATUS
A4: WEEK 36 | B4: 246 | C4: 46268 | D4: Psalms 102-103 | E4: FALSE | F4: 1 Cor 9 | G4: FALSE | H4: =IF(AND(E4=TRUE, G4=TRUE), "Complete!","To read") -> To read
B5: 247 | C5: 46269 | D5: Psalms 104 | E5: FALSE | F5: 1 Cor 10 | G5: FALSE | H5: =IF(AND(E5=TRUE, G5=TRUE), "Complete!","To read") -> To read
B6: 248 | C6: 46270 | D6: Psalms 105 | E6: FALSE | F6: 1 Cor 11 | G6: FALSE | H6: =IF(AND(E6=TRUE, G6=TRUE), "Complete!","To read") -> To read
B7: 249 | C7: 46271 | D7: Psalms 106 | E7: FALSE | F7: 1 Cor 12 | G7: FALSE | H7: =IF(AND(E7=TRUE, G7=TRUE), "Complete!","To read") -> To read
B8: 250 | C8: 46272 | D8: Psalms 107 | E8: FALSE | F8: 1 Cor 13 | G8: FALSE | H8: =IF(AND(E8=TRUE, G8=TRUE), "Complete!","To read") -> To read
B9: 251 | C9: 46273 | D9: Psalms 108 | E9: FALSE | F9: 1 Cor 14:1-19 | G9: FALSE | H9: =IF(AND(E9=TRUE, G9=TRUE), "Complete!","To read") -> To read
B10: 252 | C10: 46274 | D10: Psalms 109-110 | E10: FALSE | F10: 1 Cor 14:20-40 | G10: FALSE | H10: =IF(AND(E10=TRUE, G10=TRUE), "Complete!","To read") -> To read
A11: WEEK 37 | B11: 253 | C11: 46275 | D11: Psalms 111-113 | E11: FALSE | F11: 1 Cor 15:1-34 | G11: FALSE | H11: =IF(AND(E11=TRUE, G11=TRUE), "Complete!","To read") -> To read
B12: 254 | C12: 46276 | D12: Psalms 114-116 | E12: FALSE | F12: 1 Cor 15:35-58 | G12: FALSE | H12: =IF(AND(E12=TRUE, G12=TRUE), "Complete!","To read") -> To read
B13: 255 | C13: 46277 | D13: Psalms 117-118 | E13: FALSE | F13: 1 Cor 16 | G13: FALSE | H13: =IF(AND(E13=TRUE, G13=TRUE), "Complete!","To read") -> To read
B14: 256 | C14: 46278 | D14: Psalms 119:1-56 | E14: FALSE | F14: 2 Cor 1 | G14: FALSE | H14: =IF(AND(E14=TRUE, G14=TRUE), "Complete!","To read") -> To read
B15: 257 | C15: 46279 | D15: Psalms 119:57-104 | E15: FALSE | F15: 2 Cor 2 | G15: FALSE | H15: =IF(AND(E15=TRUE, G15=TRUE), "Complete!","To read") -> To read
B16: 258 | C16: 46280 | D16: Psalms 119:105-152 | E16: FALSE | F16: 2 Cor 3 | G16: FALSE | H16: =IF(AND(E16=TRUE, G16=TRUE), "Complete!","To read") -> To read
B17: 259 | C17: 46281 | D17: Psalms 120-121 | E17: FALSE | F17: 2 Cor 4 | G17: FALSE | H17: =IF(AND(E17=TRUE, G17=TRUE), "Complete!","To read") -> To read
A18: WEEK 38 | B18: 260 | C18: 46282 | D18: Psalms 122-127 | E18: FALSE | F18: 2 Cor 5 | G18: FALSE | H18: =IF(AND(E18=TRUE, G18=TRUE), "Complete!","To read") -> To read
B19: 261 | C19: 46283 | D19: Psalms 128-131 | E19: FALSE | F19: 2 Cor 6 | G19: FALSE | H19: =IF(AND(E19=TRUE, G19=TRUE), "Complete!","To read") -> To read
B20: 262 | C20: 46284 | D20: Psalms 132-134 | E20: FALSE | F20: 2 Cor 7 | G20: FALSE | H20: =IF(AND(E20=TRUE, G20=TRUE), "Complete!","To read") -> To read
B21: 263 | C21: 46285 | D21: Psalms 135-136 | E21: FALSE | F21: 2 Cor 8 | G21: FALSE | H21: =IF(AND(E21=TRUE, G21=TRUE), "Complete!","To read") -> To read
B22: 264 | C22: 46286 | D22: Psalms 137-139 | E22: FALSE | F22: 2 Cor 9-10 | G22: FALSE | H22: =IF(AND(E22=TRUE, G22=TRUE), "Complete!","To read") -> To read
B23: 265 | C23: 46287 | D23: Psalms 140-141 | E23: FALSE | F23: 2 Cor 11 | G23: FALSE | H23: =IF(AND(E23=TRUE, G23=TRUE), "Complete!","To read") -> To read
B24: 266 | C24: 46288 | D24: Psalms 142-144 | E24: FALSE | F24: 2 Cor 12 | G24: FALSE | H24: =IF(AND(E24=TRUE, G24=TRUE), "Complete!","To read") -> To read
A25: WEEK 39 | B25: 267 | C25: 46289 | D25: Psalms 145-147 | E25: FALSE | F25: 2 Cor 13 | G25: FALSE | H25: =IF(AND(E25=TRUE, G25=TRUE), "Complete!","To read") -> To read
B26: 268 | C26: 46290 | D26: Psalms 148-150 | E26: FALSE | F26: Galatians 1 | G26: FALSE | H26: =IF(AND(E26=TRUE, G26=TRUE), "Complete!","To read") -> To read
B27: 269 | C27: 46291 | D27: Proverbs 1:1-3:26 | E27: FALSE | F27: Galatians 2 | G27: FALSE | H27: =IF(AND(E27=TRUE, G27=TRUE), "Complete!","To read") -> To read
B28: 270 | C28: 46292 | D28: Proverbs 3:27-5:23 | E28: FALSE | F28: Galatians 3 | G28: FALSE | H28: =IF(AND(E28=TRUE, G28=TRUE), "Complete!","To read") -> To read
B29: 271 | C29: 46293 | D29: Proverbs 6-7 | E29: FALSE | F29: Galatians 4:1-20 | G29: FALSE | H29: =IF(AND(E29=TRUE, G29=TRUE), "Complete!","To read") -> To read
B30: 272 | C30: 46294 | D30: Proverbs 8-9 | E30: FALSE | F30: Galatians 4:21-31 | G30: FALSE | H30: =IF(AND(E30=TRUE, G30=TRUE), "Complete!","To read") -> To read
B31: 273 | C31: 46295 | D31: Proverbs 10-11 | E31: FALSE | F31: Galatians 5 | G31: FALSE | H31: =IF(AND(E31=TRUE, G31=TRUE), "Complete!","To read") -> To read
H32: =COUNTIF(H4:H31,"Complete!") -> 0
C34: You have completed | D34: =H32/COUNTA(H4:H31) -> 0 | E34: of weeks 36-39

Sheet OCTOBER READINGS
C1: Guide to October Readings
A3: WEEK | B3: DAY | C3: DATE | D3: Old Testament | E3: TICK | F3: New Testament | G3: TICK | H3: STATUS
A4: WEEK 40 | B4: 274 | C4: 46296 | D4: Proverbs 12-14 | E4: FALSE | F4: Gal 6 | G4: FALSE | H4: =IF(AND(E4=TRUE, G4=TRUE), "Complete!","To read") -> To read
B5: 275 | C5: 46297 | D5: Proverbs 15-17 | E5: FALSE | F5: Eph 1:1-14 | G5: FALSE | H5: =IF(AND(E5=TRUE, G5=TRUE), "Complete!","To read") -> To read
B6: 276 | C6: 46298 | D6: Proverbs 18-20 | E6: FALSE | F6: Eph 1:15-2:10 | G6: FALSE | H6: =IF(AND(E6=TRUE, G6=TRUE), "Complete!","To read") -> To read
B7: 277 | C7: 46299 | D7: Proverbs 21-22 | E7: FALSE | F7: Eph 2:11-3:13 | G7: FALSE | H7: =IF(AND(E7=TRUE, G7=TRUE), "Complete!","To read") -> To read
B8: 278 | C8: 46300 | D8: Proverbs 23-24 | E8: FALSE | F8: Eph 3:14-4:16 | G8: FALSE | H8: =IF(AND(E8=TRUE, G8=TRUE), "Complete!","To read") -> To read
B9: 279 | C9: 46301 | D9: Proverbs 25-26 | E9: FALSE | F9: Eph 4:17-5:14 | G9: FALSE | H9: =IF(AND(E9=TRUE, G9=TRUE), "Complete!","To read") -> To read
B10: 280 | C10: 46302 | D10: Proverbs 27-29 | E10: FALSE | F10: Eph 5:15-33 | G10: FALSE | H10: =IF(AND(E10=TRUE, G10=TRUE), "Complete!","To read") -> To read
A11: WEEK 41 | B11: 281 | C11: 46303 | D11: Proverbs 30-31 | E11: FALSE | F11: Eph 6 | G11: FALSE | H11: =IF(AND(E11=TRUE, G11=TRUE), "Complete!","To read") -> To read
B12: 282 | C12: 46304 | D12: Eccl 1-4 | E12: FALSE | F12: Phil 1 | G12: FALSE | H12: =IF(AND(E12=TRUE, G12=TRUE), "Complete!","To read") -> To read
B13: 283 | C13: 46305 | D13: Eccl 5-8 | E13: FALSE | F13: Phil 2:1-18 | G13: FALSE | H13: =IF(AND(E13=TRUE, G13=TRUE), "Complete!","To read") -> To read
B14: 284 | C14: 46306 | D14: Eccl 9-12 | E14: FALSE | F14: Phil 2:19-3:16 | G14: FALSE | H14: =IF(AND(E14=TRUE, G14=TRUE), "Complete!","To read") -> To read
B15: 285 | C15: 46307 | D15: Song 1-6 | E15: FALSE | F15: Phil 3:17-4:9 | G15: FALSE | H15: =IF(AND(E15=TRUE, G15=TRUE), "Complete!","To read") -> To read
B16: 286 | C16: 46308 | D16: Song 7-8; Isaiah 1 | E16: FALSE | F16: Phil 4:10-23 | G16: FALSE | H16: =IF(AND(E16=TRUE, G16=TRUE), "Complete!","To read") -> To read
B17: 287 | C17: 46309 | D17: Isaiah 2-5 | E17: FALSE | F17: Col 1:1-23 | G17: FALSE | H17: =IF(AND(E17=TRUE, G17=TRUE), "Complete!","To read") -> To read
A18: WEEK 42 | B18: 288 | C18: 46310 | D18: Isaiah 6-8 | E18: FALSE | F18: Col 1:24-2:5 | G18: FALSE | H18: =IF(AND(E18=TRUE, G18=TRUE), "Complete!","To read") -> To read
B19: 289 | C19: 46311 | D19: Isaiah 9-11 | E19: FALSE | F19: Col 2:6-23 | G19: FALSE | H19: =IF(AND(E19=TRUE, G19=TRUE), "Complete!","To read") -> To read
B20: 290 | C20: 46312 | D20: Isaiah 12-15 | E20: FALSE | F20: Col 3 | G20: FALSE | H20: =IF(AND(E20=TRUE, G20=TRUE), "Complete!","To read") -> To read
B21: 291 | C21: 46313 | D21: Isaiah 16-20 | E21: FALSE | F21: Col 4 | G21: FALSE | H21: =IF(AND(E21=TRUE, G21=TRUE), "Complete!","To read") -> To read
B22: 292 | C22: 46314 | D22: Isaiah 21-23 | E22: FALSE | F22: 1 Thess 1:1-2:16 | G22: FALSE | H22: =IF(AND(E22=TRUE, G22=TRUE), "Complete!","To read") -> To read
B23: 293 | C23: 46315 | D23: Isaiah 24-27 | E23: FALSE | F23: 1 Thess 2:17-3:13 | G23: FALSE | H23: =IF(AND(E23=TRUE, G23=TRUE), "Complete!","To read") -> To read
B24: 294 | C24: 46316 | D24: Isaiah 28-30 | E24: FALSE | F24: 1 Thess 4 | G24: FALSE | H24: =IF(AND(E24=TRUE, G24=TRUE), "Complete!","To read") -> To read
A25: WEEK 43 | B25: 295 | C25: 46317 | D25: Isaiah 31-33 | E25: FALSE | F25: 1 Thess 5 | G25: FALSE | H25: =IF(AND(E25=TRUE, G25=TRUE), "Complete!","To read") -> To read
B26: 296 | C26: 46318 | D26: Isaiah 34:1-37:20 | E26: FALSE | F26: 2 Thess 1-2 | G26: FALSE | H26: =IF(AND(E26=TRUE, G26=TRUE), "Complete!","To read") -> To read
B27: 297 | C27: 46319 | D27: Isaiah 37:21-40:31 | E27: FALSE | F27: 2 Thess 2; 1 Tim 1:1-11 | G27: FALSE | H27: =IF(AND(E27=TRUE, G27=TRUE), "Complete!","To read") -> To read
B28: 298 | C28: 46320 | D28: Isaiah 41-42 | E28: FALSE | F28: 1 Tim 1:12-2:15 | G28: FALSE | H28: =IF(AND(E28=TRUE, G28=TRUE), "Complete!","To read") -> To read
B29: 299 | C29: 46321 | D29: Isaiah 43-46 | E29: FALSE | F29: 1 Tim 3 | G29: FALSE | H29: =IF(AND(E29=TRUE, G29=TRUE), "Complete!","To read") -> To read
B30: 300 | C30: 46322 | D30: Isaiah 47-50 | E30: FALSE | F30: 1 Tim 4 | G30: FALSE | H30: =IF(AND(E30=TRUE, G30=TRUE), "Complete!","To read") -> To read
B31: 301 | C31: 46323 | D31: Isaiah 51-54 | E31: FALSE | F31: 1 Tim 5 | G31: FALSE | H31: =IF(AND(E31=TRUE, G31=TRUE), "Complete!","To read") -> To read
C32: 46324 | H32: =COUNTIF(H4:H31,"Complete!") -> 0
C34: You have completed | D34: =H32/COUNTA(H4:H31) -> 0 | E34: of weeks 40-43

Sheet NOVEMBER READINGS
C1: Guide to November Readings
A3: WEEK | B3: DAY | C3: DATE | D3: Old Testament | E3: TICK | F3: New Testament | G3: TICK | H3: STATUS
A4: WEEK 44 | B4: 302 | C4: 46324 | D4: Isaiah 55-58 | E4: FALSE | F4: 1 Timothy 6 | G4: FALSE | H4: =IF(AND(E4=TRUE, G4=TRUE), "Complete!","To read") -> To read
B5: 303 | C5: 46325 | D5: Isaiah 59-62 | E5: FALSE | F5: 2 Timothy 1 | G5: FALSE | H5: =IF(AND(E5=TRUE, G5=TRUE), "Complete!","To read") -> To read
B6: 304 | C6: 46326 | D6: Isaiah 63-65 | E6: FALSE | F6: 2 Timothy 2 | G6: FALSE | H6: =IF(AND(E6=TRUE, G6=TRUE), "Complete!","To read") -> To read
B7: 305 | C7: 46327 | D7: Isaiah 66; Jeremiah 1-2 | E7: FALSE | F7: 2 Timothy 3-4 | G7: FALSE | H7: =IF(AND(E7=TRUE, G7=TRUE), "Complete!","To read") -> To read
B8: 306 | C8: 46328 | D8: Jeremiah 3-4 | E8: FALSE | F8: Titus 1-2 | G8: FALSE | H8: =IF(AND(E8=TRUE, G8=TRUE), "Complete!","To read") -> To read
B9: 307 | C9: 46329 | D9: Jeremiah 5-6 | E9: FALSE | F9: Titus 3 | G9: FALSE | H9: =IF(AND(E9=TRUE, G9=TRUE), "Complete!","To read") -> To read
B10: 308 | C10: 46330 | D10: Jeremiah 7-9 | E10: FALSE | F10: Philemon 1 | G10: FALSE | H10: =IF(AND(E10=TRUE, G10=TRUE), "Complete!","To read") -> To read
A11: WEEK 45 | B11: 309 | C11: 46331 | D11: Jeremiah 10-12 | E11: FALSE | F11: Hebrews 1 | G11: FALSE | H11: =IF(AND(E11=TRUE, G11=TRUE), "Complete!","To read") -> To read
B12: 310 | C12: 46332 | D12: Jeremiah 13-15 | E12: FALSE | F12: Hebrews 2 | G12: FALSE | H12: =IF(AND(E12=TRUE, G12=TRUE), "Complete!","To read") -> To read
B13: 311 | C13: 46333 | D13: Jeremiah 16-17 | E13: FALSE | F13: Hebrews 3 | G13: FALSE | H13: =IF(AND(E13=TRUE, G13=TRUE), "Complete!","To read") -> To read
B14: 312 | C14: 46334 | D14: Jeremiah 18-21 | E14: FALSE | F14: Hebrews 4 | G14: FALSE | H14: =IF(AND(E14=TRUE, G14=TRUE), "Complete!","To read") -> To read
B15: 313 | C15: 46335 | D15: Jeremiah 22-24 | E15: FALSE | F15: Hebrews 5 | G15: FALSE | H15: =IF(AND(E15=TRUE, G15=TRUE), "Complete!","To read") -> To read
B16: 314 | C16: 46336 | D16: Jeremiah 25-27 | E16: FALSE | F16: Hebrews 6 | G16: FALSE | H16: =IF(AND(E16=TRUE, G16=TRUE), "Complete!","To read") -> To read
B17: 315 | C17: 46337 | D17: Jeremiah 28-30 | E17: FALSE | F17: Hebrews 7 | G17: FALSE | H17: =IF(AND(E17=TRUE, G17=TRUE), "Complete!","To read") -> To read
A18: WEEK 46 | B18: 316 | C18: 46338 | D18: Jeremiah 31-32 | E18: FALSE | F18: Hebrews 8 | G18: FALSE | H18: =IF(AND(E18=TRUE, G18=TRUE), "Complete!","To read") -> To read
B19: 317 | C19: 46339 | D19: Jeremiah 33-34 | E19: FALSE | F19: Hebrews 9 | G19: FALSE | H19: =IF(AND(E19=TRUE, G19=TRUE), "Complete!","To read") -> To read
B20: 318 | C20: 46340 | D20: Jeremiah 35-36 | E20: FALSE | F20: Hebrews 10:1-18 | G20: FALSE | H20: =IF(AND(E20=TRUE, G20=TRUE), "Complete!","To read") -> To read
B21: 319 | C21: 46341 | D21: Jeremiah 37-39 | E21: FALSE | F21: Hebrews 10:19-39 | G21: FALSE | H21: =IF(AND(E21=TRUE, G21=TRUE), "Complete!","To read") -> To read
B22: 320 | C22: 46342 | D22: Jeremiah 40-42 | E22: FALSE | F22: Hebrews 11 | G22: FALSE | H22: =IF(AND(E22=TRUE, G22=TRUE), "Complete!","To read") -> To read
B23: 321 | C23: 46343 | D23: Jeremiah 43-45 | E23: FALSE | F23: Hebrews 12 | G23: FALSE | H23: =IF(AND(E23=TRUE, G23=TRUE), "Complete!","To read") -> To read
B24: 322 | C24: 46344 | D24: Jeremiah 46-48 | E24: FALSE | F24: Hebrews 13 | G24: FALSE | H24: =IF(AND(E24=TRUE, G24=TRUE), "Complete!","To read") -> To read
A25: WEEK 47 | B25: 323 | C25: 46345 | D25: Jeremiah 49-50 | E25: FALSE | F25: James 1 | G25: FALSE | H25: =IF(AND(E25=TRUE, G25=TRUE), "Complete!","To read") -> To read
B26: 324 | C26: 46346 | D26: Jeremiah 51 | E26: FALSE | F26: James 2:1-13 | G26: FALSE | H26: =IF(AND(E26=TRUE, G26=TRUE), "Complete!","To read") -> To read
B27: 325 | C27: 46347 | D27: Jeremiah 52; Lam 1 | E27: FALSE | F27: James 2:14-26 | G27: FALSE | H27: =IF(AND(E27=TRUE, G27=TRUE), "Complete!","To read") -> To read
B28: 326 | C28: 46348 | D28: Lam 2-3 | E28: FALSE | F28: James 3 | G28: FALSE | H28: =IF(AND(E28=TRUE, G28=TRUE), "Complete!","To read") -> To read
B29: 327 | C29: 46349 | D29: Lam 4-5; Ezekiel 1 | E29: FALSE | F29: James 4 | G29: FALSE | H29: =IF(AND(E29=TRUE, G29=TRUE), "Complete!","To read") -> To read
B30: 328 | C30: 46350 | D30: Ezekiel 2-6 | E30: FALSE | F30: James 5 | G30: FALSE | H30: =IF(AND(E30=TRUE, G30=TRUE), "Complete!","To read") -> To read
B31: 329 | C31: 46351 | D31: Ezekiel 7-9 | E31: FALSE | F31: 1 Peter 1 | G31: FALSE | H31: =IF(AND(E31=TRUE, G31=TRUE), "Complete!","To read") -> To read
A32: WEEK 48 | B32: 330 | C32: 46352 | D32: Ezekiel 10-12 | E32: FALSE | F32: 1 Peter 2 | G32: FALSE | H32: =IF(AND(E32=TRUE, G32=TRUE), "Complete!","To read") -> To read
B33: 331 | C33: 46353 | D33: Ezekiel 13-15 | E33: FALSE | F33: 1 Peter 3 | G33: FALSE | H33: =IF(AND(E33=TRUE, G33=TRUE), "Complete!","To read") -> To read
B34: 332 | C34: 46354 | D34: Ezekiel 16-17 | E34: FALSE | F34: 1 Peter 4 | G34: FALSE | H34: =IF(AND(E34=TRUE, G34=TRUE), "Complete!","To read") -> To read
B35: 333 | C35: 46355 | D35: Ezekiel 18-20 | E35: FALSE | F35: 1 Peter 5 | G35: FALSE | H35: =IF(AND(E35=TRUE, G35=TRUE), "Complete!","To read") -> To read
B36: 334 | C36: 46356 | D36: Ezekiel 21-22 | E36: FALSE | F36: 2 Peter 1 | G36: FALSE | H36: =IF(AND(E36=TRUE, G36=TRUE), "Complete!","To read") -> To read
B37: 335 | C37: 46357 | D37: Ezekiel 23-24 | E37: FALSE | F37: 2 Peter 2 | G37: FALSE | H37: =IF(AND(E37=TRUE, G37=TRUE), "Complete!","To read") -> To read
B38: 336 | C38: 46358 | D38: Ezekiel 25-27 | E38: FALSE | F38: 2 Peter 3 | G38: FALSE | H38: =IF(AND(E38=TRUE, G38=TRUE), "Complete!","To read") -> To read
H39: =COUNTIF(H4:H38,"Complete!") -> 0
C41: You have completed | D41: =H39/COUNTA(H4:H38) -> 0 | E41: of weeks 44-48

Sheet DECEMBER READINGS
C1: Guide to December Readings
A3: WEEK | B3: DAY | C3: DATE | D3: Old Testament | E3: TICK | F3: New Testament | G3: TICK | H3: STATUS
A4: WEEK 49 | B4: 337 | C4: 46359 | D4: Ezekiel 28-30 | E4: FALSE | F4: 1 John 1 | G4: FALSE | H4: =IF(AND(E4=TRUE, G4=TRUE), "Complete!","To read") -> To read
B5: 338 | C5: 46360 | D5: Ezekiel 31-32 | E5: FALSE | F5: 1 John 2:1-17 | G5: FALSE | H5: =IF(AND(E5=TRUE, G5=TRUE), "Complete!","To read") -> To read
B6: 339 | C6: 46361 | D6: Ezekiel 33-34 | E6: FALSE | F6: 1 John 2:18-3:10 | G6: FALSE | H6: =IF(AND(E6=TRUE, G6=TRUE), "Complete!","To read") -> To read
B7: 340 | C7: 46362 | D7: Ezekiel 35-36 | E7: FALSE | F7: 1 John 3:11-4:6 | G7: FALSE | H7: =IF(AND(E7=TRUE, G7=TRUE), "Complete!","To read") -> To read
B8: 341 | C8: 46363 | D8: Ezekiel 37-38 | E8: FALSE | F8: 1 John 4:7-5:12 | G8: FALSE | H8: =IF(AND(E8=TRUE, G8=TRUE), "Complete!","To read") -> To read
B9: 342 | C9: 46364 | D9: Ezekiel 39-40 | E9: FALSE | F9: 1 John 5:13-21 | G9: FALSE | H9: =IF(AND(E9=TRUE, G9=TRUE), "Complete!","To read") -> To read
B10: 343 | C10: 46365 | D10: Ezekiel 41-43 | E10: FALSE | F10: 2 John; 3 John | G10: FALSE | H10: =IF(AND(E10=TRUE, G10=TRUE), "Complete!","To read") -> To read
A11: WEEK 50 | B11: 344 | C11: 46366 | D11: Ezekiel 44-46 | E11: FALSE | F11: Jude | G11: FALSE | H11: =IF(AND(E11=TRUE, G11=TRUE), "Complete!","To read") -> To read
B12: 345 | C12: 46367 | D12: Ezekiel 47-48 | E12: FALSE | F12: Revelation 1 | G12: FALSE | H12: =IF(AND(E12=TRUE, G12=TRUE), "Complete!","To read") -> To read
B13: 346 | C13: 46368 | D13: Daniel 1-2 | E13: FALSE | F13: Revelation 2 | G13: FALSE | H13: =IF(AND(E13=TRUE, G13=TRUE), "Complete!","To read") -> To read
B14: 347 | C14: 46369 | D14: Daniel 3-4 | E14: FALSE | F14: Revelation 3:1-13 | G14: FALSE | H14: =IF(AND(E14=TRUE, G14=TRUE), "Complete!","To read") -> To read
B15: 348 | C15: 46370 | D15: Daniel 5-6 | E15: FALSE | F15: Revelation 3:14-4:11 | G15: FALSE | H15: =IF(AND(E15=TRUE, G15=TRUE), "Complete!","To read") -> To read
B16: 349 | C16: 46371 | D16: Daniel 7-9 | E16: FALSE | F16: Revelation 5 | G16: FALSE | H16: =IF(AND(E16=TRUE, G16=TRUE), "Complete!","To read") -> To read
B17: 350 | C17: 46372 | D17: Daniel 10-12 | E17: FALSE | F17: Revelation 6 | G17: FALSE | H17: =IF(AND(E17=TRUE, G17=TRUE), "Complete!","To read") -> To read
A18: WEEK 51 | B18: 351 | C18: 46373 | D18: Hosea 1-4 | E18: FALSE | F18: Revelation 7 | G18: FALSE | H18: =IF(AND(E18=TRUE, G18=TRUE), "Complete!","To read") -> To read
B19: 352 | C19: 46374 | D19: Hosea 5-9 | E19: FALSE | F19: Revelation 8 | G19: FALSE | H19: =IF(AND(E19=TRUE, G19=TRUE), "Complete!","To read") -> To read
B20: 353 | C20: 46375 | D20: Hosea 10-14 | E20: FALSE | F20: Revelation 9-10 | G20: FALSE | H20: =IF(AND(E20=TRUE, G20=TRUE), "Complete!","To read") -> To read
B21: 354 | C21: 46376 | D21: Joel 1-3 | E21: FALSE | F21: Revelation 11 | G21: FALSE | H21: =IF(AND(E21=TRUE, G21=TRUE), "Complete!","To read") -> To read
B22: 355 | C22: 46377 | D22: Amos 1-5 | E22: FALSE | F22: Revelation 12 | G22: FALSE | H22: =IF(AND(E22=TRUE, G22=TRUE), "Complete!","To read") -> To read
B23: 356 | C23: 46378 | D23: Amos 6-9 | E23: FALSE | F23: Revelation 13 | G23: FALSE | H23: =IF(AND(E23=TRUE, G23=TRUE), "Complete!","To read") -> To read
B24: 357 | C24: 46379 | D24: Obadiah 1; Jonah 1-4 | E24: FALSE | F24: Revelation 14 | G24: FALSE | H24: =IF(AND(E24=TRUE, G24=TRUE), "Complete!","To read") -> To read
A25: WEEK 52 | B25: 358 | C25: 46380 | D25: Micah 1-5 | E25: FALSE | F25: Revelation 15 | G25: FALSE | H25: =IF(AND(E25=TRUE, G25=TRUE), "Complete!","To read") -> To read
B26: 359 | C26: 46381 | D26: Micah 6-7; Nahum 1-2 | E26: FALSE | F26: Revelation 16 | G26: FALSE | H26: =IF(AND(E26=TRUE, G26=TRUE), "Complete!","To read") -> To read
B27: 360 | C27: 46382 | D27: Nahum 3; Habakkuk 1-3 | E27: FALSE | F27: Revelation 17 | G27: FALSE | H27: =IF(AND(E27=TRUE, G27=TRUE), "Complete!","To read") -> To read
B28: 361 | C28: 46383 | D28: Zephaniah 1-3; Haggai 1-2 | E28: FALSE | F28: Revelation 18 | G28: FALSE | H28: =IF(AND(E28=TRUE, G28=TRUE), "Complete!","To read") -> To read
B29: 362 | C29: 46384 | D29: Zechariah 1-5 | E29: FALSE | F29: Revelation 19 | G29: FALSE | H29: =IF(AND(E29=TRUE, G29=TRUE), "Complete!","To read") -> To read
B30: 363 | C30: 46385 | D30: Zechariah 6-9 | E30: FALSE | F30: Revelation 20 | G30: FALSE | H30: =IF(AND(E30=TRUE, G30=TRUE), "Complete!","To read") -> To read
B31: 364 | C31: 46386 | D31: Zechariah 10-14 | E31: FALSE | F31: Revelation 21 | G31: FALSE | H31: =IF(AND(E31=TRUE, G31=TRUE), "Complete!","To read") -> To read
B32: 365 | C32: 46387 | D32: Malachi 1-4 | E32: FALSE | F32: Revelation 22 | G32: FALSE | H32: =IF(AND(E32=TRUE, G32=TRUE), "Complete!","To read") -> To read
H33: =COUNTIF(H4:H32,"Complete!") -> 0
C35: You have completed | D35: =H33/COUNTA(H4:H32) -> 0 | E35: of weeks 49-52
